BEGIN:VCALENDAR
VERSION:2.0
PRODID:-//Squarespace Inc/Squarespace 6//v6//EN
BEGIN:VEVENT
UID:5b187a340e2e721b4207bf32@squarespace.com
DTSTAMP:20180607T002745Z
DTSTART:20180608T200000Z
DTEND:20180609T030000Z
SUMMARY:FRIDAY THE 8TH OF JUNE 
END:VEVENT
END:VCALENDAR
