BEGIN:VCALENDAR
VERSION:2.0
PRODID:-//Squarespace Inc/Squarespace 6//v6//EN
BEGIN:VEVENT
UID:5b187dbc6d2a73891c6bf1e0@squarespace.com
DTSTAMP:20180607T003835Z
DTSTART:20180610T184000Z
DTEND:20180611T030000Z
SUMMARY:SUNDAY THE 10TH OF JUNE 
END:VEVENT
END:VCALENDAR
