BEGIN:VCALENDAR
VERSION:2.0
PRODID:-//Squarespace Inc/Squarespace 6//v6//EN
BEGIN:VEVENT
UID:5b0b89c46d2a73781c2bc5ba@squarespace.com
DTSTAMP:20180529T040307Z
DTSTART:20180530T150000Z
DTEND:20180531T035900Z
SUMMARY:Wednesdays - $15 Pizza
END:VEVENT
END:VCALENDAR
